BEGIN:VCALENDAR
VERSION:2.0
PRODID:-//Broadcast Dialogue - ECPv6.15.20//NONSGML v1.0//EN
CALSCALE:GREGORIAN
METHOD:PUBLISH
X-ORIGINAL-URL:https://broadcastdialogue.com
X-WR-CALDESC:Events for Broadcast Dialogue
REFRESH-INTERVAL;VALUE=DURATION:PT1H
X-Robots-Tag:noindex
X-PUBLISHED-TTL:PT1H
BEGIN:VTIMEZONE
TZID:America/Toronto
BEGIN:DAYLIGHT
TZOFFSETFROM:-0500
TZOFFSETTO:-0400
TZNAME:EDT
DTSTART:20250309T070000
END:DAYLIGHT
BEGIN:STANDARD
TZOFFSETFROM:-0400
TZOFFSETTO:-0500
TZNAME:EST
DTSTART:20251102T060000
END:STANDARD
BEGIN:DAYLIGHT
TZOFFSETFROM:-0500
TZOFFSETTO:-0400
TZNAME:EDT
DTSTART:20260308T070000
END:DAYLIGHT
BEGIN:STANDARD
TZOFFSETFROM:-0400
TZOFFSETTO:-0500
TZNAME:EST
DTSTART:20261101T060000
END:STANDARD
BEGIN:DAYLIGHT
TZOFFSETFROM:-0500
TZOFFSETTO:-0400
TZNAME:EDT
DTSTART:20270314T070000
END:DAYLIGHT
BEGIN:STANDARD
TZOFFSETFROM:-0400
TZOFFSETTO:-0500
TZNAME:EST
DTSTART:20271107T060000
END:STANDARD
END:VTIMEZONE
BEGIN:VEVENT
DTSTART;VALUE=DATE:20260421
DTEND;VALUE=DATE:20260423
DTSTAMP:20260422T083016
CREATED:20251029T165915Z
LAST-MODIFIED:20260416T202855Z
UID:75510-1776729600-1776902399@broadcastdialogue.com
SUMMARY:STAC 2026 Conference & Exhibition
DESCRIPTION:The Structure\, Tower & Antenna Council (STAC) is proud to celebrate its 10th annual conference – the STAC 2026 Conference & Exhibition – on April 21-22 at the Fairmont Château Laurier in Ottawa. \nJoin us for Canada’s only annual conference dedicated to workers in the telecommunications tower and infrastructure industry and learn about the latest developments and safety best practices for tower workers and telecom technicians.
URL:https://broadcastdialogue.com/event/stac-2026-conference-exhibition/
LOCATION:Fairmont Château Laurier\, 1 Rideau Street\, Ottawa\, Ontario\, K1N8S7\, Canada
ATTACH;FMTTYPE=image/jpeg:https://broadcastdialogue.com/wp-content/uploads/2025/10/CTA_STAC_2026_1200x675@2x-100-1.jpg
END:VEVENT
END:VCALENDAR