BEGIN:VCALENDAR
VERSION:2.0
PRODID:-//Broadcast Dialogue - ECPv6.15.20//NONSGML v1.0//EN
CALSCALE:GREGORIAN
METHOD:PUBLISH
X-ORIGINAL-URL:https://broadcastdialogue.com
X-WR-CALDESC:Events for Broadcast Dialogue
REFRESH-INTERVAL;VALUE=DURATION:PT1H
X-Robots-Tag:noindex
X-PUBLISHED-TTL:PT1H
BEGIN:VTIMEZONE
TZID:America/Winnipeg
BEGIN:DAYLIGHT
TZOFFSETFROM:-0600
TZOFFSETTO:-0500
TZNAME:CDT
DTSTART:20250309T080000
END:DAYLIGHT
BEGIN:STANDARD
TZOFFSETFROM:-0500
TZOFFSETTO:-0600
TZNAME:CST
DTSTART:20251102T070000
END:STANDARD
BEGIN:DAYLIGHT
TZOFFSETFROM:-0600
TZOFFSETTO:-0500
TZNAME:CDT
DTSTART:20260308T080000
END:DAYLIGHT
BEGIN:STANDARD
TZOFFSETFROM:-0500
TZOFFSETTO:-0600
TZNAME:CST
DTSTART:20261101T070000
END:STANDARD
BEGIN:DAYLIGHT
TZOFFSETFROM:-0600
TZOFFSETTO:-0500
TZNAME:CDT
DTSTART:20270314T080000
END:DAYLIGHT
BEGIN:STANDARD
TZOFFSETFROM:-0500
TZOFFSETTO:-0600
TZNAME:CST
DTSTART:20271107T070000
END:STANDARD
END:VTIMEZONE
BEGIN:VTIMEZONE
TZID:America/Toronto
BEGIN:DAYLIGHT
TZOFFSETFROM:-0500
TZOFFSETTO:-0400
TZNAME:EDT
DTSTART:20250309T070000
END:DAYLIGHT
BEGIN:STANDARD
TZOFFSETFROM:-0400
TZOFFSETTO:-0500
TZNAME:EST
DTSTART:20251102T060000
END:STANDARD
BEGIN:DAYLIGHT
TZOFFSETFROM:-0500
TZOFFSETTO:-0400
TZNAME:EDT
DTSTART:20260308T070000
END:DAYLIGHT
BEGIN:STANDARD
TZOFFSETFROM:-0400
TZOFFSETTO:-0500
TZNAME:EST
DTSTART:20261101T060000
END:STANDARD
BEGIN:DAYLIGHT
TZOFFSETFROM:-0500
TZOFFSETTO:-0400
TZNAME:EDT
DTSTART:20270314T070000
END:DAYLIGHT
BEGIN:STANDARD
TZOFFSETFROM:-0400
TZOFFSETTO:-0500
TZNAME:EST
DTSTART:20271107T060000
END:STANDARD
END:VTIMEZONE
BEGIN:VTIMEZONE
TZID:America/Vancouver
BEGIN:DAYLIGHT
TZOFFSETFROM:-0800
TZOFFSETTO:-0700
TZNAME:PDT
DTSTART:20250309T100000
END:DAYLIGHT
BEGIN:STANDARD
TZOFFSETFROM:-0700
TZOFFSETTO:-0800
TZNAME:PST
DTSTART:20251102T090000
END:STANDARD
BEGIN:DAYLIGHT
TZOFFSETFROM:-0800
TZOFFSETTO:-0700
TZNAME:PDT
DTSTART:20260308T100000
END:DAYLIGHT
BEGIN:STANDARD
TZOFFSETFROM:-0700
TZOFFSETTO:-0800
TZNAME:PST
DTSTART:20261101T090000
END:STANDARD
BEGIN:DAYLIGHT
TZOFFSETFROM:-0800
TZOFFSETTO:-0700
TZNAME:PDT
DTSTART:20270314T100000
END:DAYLIGHT
BEGIN:STANDARD
TZOFFSETFROM:-0700
TZOFFSETTO:-0800
TZNAME:PST
DTSTART:20271107T090000
END:STANDARD
END:VTIMEZONE
BEGIN:VEVENT
DTSTART;TZID=America/Winnipeg:20260504T180000
DTEND;TZID=America/Winnipeg:20260504T213000
DTSTAMP:20260421T034020
CREATED:20260413T193327Z
LAST-MODIFIED:20260416T202949Z
UID:77912-1777917600-1777930200@broadcastdialogue.com
SUMMARY:WABE Monday Media Meetup
DESCRIPTION:Join WABE (Western Association of Broadcast Engineers) for the WABE Monday Media Meetup on Monday\, May 4 in Winnipeg. \nAn evening of connection\, conversation\, and insight into the evolving media industry\, the purpose of WABE Meetups is to bring together people working in\, studying\, or interested in media and entertainment to connect\, share knowledge\, and discuss how the industry is changing. \nTaking place from 6 – 9:30 p.m at RRC Polytech – CGA MB\, Room 160\, Princess St\, come meet students\, educators\, and industry professionals\, and take part in our panel discussion on How Media Industry Jobs Are Being Rewritten\, where we invite industry professionals to share their view from their sector of the industry. \nBring a friend and be part of the conversation! Light snacks available. \nRegister here: https://western-association-broadcast-engineers.s1.yapla.com/en/event-87145 \nFor over 75 years\, WABE has supported media and entertainment technology professionals through events\, conferences\, technical exhibits\, and educational sessions\, helping the industry stay informed on the technologies shaping its future\, especially as media technologies across all sectors continue to rapidly converge.
URL:https://broadcastdialogue.com/event/wabe-monday-media-meetup/
LOCATION:RRC Polytech\, 160 Princess Street\, Winnipeg\, Canada
CATEGORIES:Events & Presentations
ATTACH;FMTTYPE=image/jpeg:https://broadcastdialogue.com/wp-content/uploads/2025/05/WABE2-2.jpg
END:VEVENT
BEGIN:VEVENT
DTSTART;TZID=America/Toronto:20260521T090000
DTEND;TZID=America/Toronto:20260521T190000
DTSTAMP:20260421T034020
CREATED:20260410T154850Z
LAST-MODIFIED:20260410T155808Z
UID:77889-1779354000-1779390000@broadcastdialogue.com
SUMMARY:SMPTE Toronto Boot Camp
DESCRIPTION:Boot Camp 2026 is SMPTE Toronto’s signature one-day training and discovery event. As the industry undergoes rapid transformation\, Boot Camp offers a unique opportunity to learn directly from the engineers\, innovators\, and thought leaders driving these changes. \nWho Should Attend:\n– Students and emerging professionals entering the media and broadcast industry\n– Engineers\, operators\, and technicians looking to expand their skill set\n– Industry veterans seeking to stay current with evolving technologies\n– Anyone passionate about the future of live sports and media production \nWhat You’ll Gain:\n– A deeper understanding of the technologies reshaping live sports workflows\n– Direct access to industry leaders and subject matter experts\n– Actionable knowledge you can apply in studio\, field\, or cloud-based environments\n– Meaningful connections with peers\, mentors\, and potential collaborators \nBoot Camp 2026 continues SMPTE Toronto’s long tradition of fostering education\, innovation\, and community within the motion imaging industry.  Join us for Boot Camp 2026 in-person or virtually.
URL:https://broadcastdialogue.com/event/smpte-toronto-boot-camp/
LOCATION:Toronto Metropolitan University\, 80 Gould Street\, Toronto\, Canada
CATEGORIES:Events & Presentations
ATTACH;FMTTYPE=image/png:https://broadcastdialogue.com/wp-content/uploads/2026/04/SMPTE-Toronto.png
END:VEVENT
BEGIN:VEVENT
DTSTART;VALUE=DATE:20261005
DTEND;VALUE=DATE:20261008
DTSTAMP:20260421T034020
CREATED:20260217T184656Z
LAST-MODIFIED:20260217T184656Z
UID:77013-1791158400-1791417599@broadcastdialogue.com
SUMMARY:WABE Media & Entertainment Technology Conference 2026
DESCRIPTION:WABE Media and Entertainment Technology Conference 2026. \nOctober 5-7 Vancouver\, B.C. \nStay Tuned for Registration.
URL:https://broadcastdialogue.com/event/wabe-media-entertainment-technology-conference-2026/
CATEGORIES:Events & Presentations
ATTACH;FMTTYPE=image/jpeg:https://broadcastdialogue.com/wp-content/uploads/2025/05/WABE2-2.jpg
END:VEVENT
END:VCALENDAR